BEGIN:VCALENDAR
PRODID:-//www.eventfinda.co.nz//NONSGML Eventfinder//EN
VERSION:2.0
BEGIN:VEVENT
DESCRIPTION:Night Owl Cinema proudly presents Rocketman\n\nRocketman is a 2
 019 biographical musical film based on the life of British musician Elton 
 John. Directed by Dexter Fletcher and written by Lee Hall\, it stars Taron
  Egerton ...\n\nMore: https://nightowlcinema-premier.eventfinda.co.nz/2021
 /night-owl-cinema-rocketman/tauranga
DTEND:20210130T223000
DTSTAMP:20210121T061141Z
DTSTART:20210130T190000
GEO:-37.704700;176.148700
LOCATION:The Historic Village: Seventeenth Ave West\, Tauranga
SUMMARY:Night Owl Cinema - Rocketman
TRANSP:TRANSPARENT
UID:20210121T191141NZDT-SeV618H6sl@www.eventfinda.co.nz
URL:https://nightowlcinema-premier.eventfinda.co.nz/2021/night-owl-cinema-r
 ocketman/tauranga
END:VEVENT
END:VCALENDAR
