BEGIN:VCALENDAR
PRODID:-//www.eventfinda.co.nz//NONSGML Eventfinder//EN
VERSION:2.0
BEGIN:VEVENT
DESCRIPTION:Jumanji: The Next Level is a 2019 American fantasy adventure co
 medy film directed by Jake Kasdan and co-written by Kasdan\, Jeff Pinkner\
 , and Scott Rosenberg. It is a sequel to 2017's Jumanji: Welcome to the Ju
 ngle\, the ...\n\nMore: https://nightowlcinema-premier.eventfinda.co.nz/20
 21/night-owl-cinema-jumanji-the-next-level/mt-maunganui
DTEND:20210123T223000
DTSTAMP:20210121T061138Z
DTSTART:20210123T190000
GEO:-37.736100;176.142300
LOCATION:Greerton Marist Rugby Club: Oropi Road\, Greerton\, Tauranga
SUMMARY:Night Owl Cinema - Jumanji - The Next Level
TRANSP:TRANSPARENT
UID:20210121T191138NZDT-BsmAoJ0aDr@www.eventfinda.co.nz
URL:https://nightowlcinema-premier.eventfinda.co.nz/2021/night-owl-cinema-j
 umanji-the-next-level/mt-maunganui
END:VEVENT
END:VCALENDAR
