BEGIN:VCALENDAR
PRODID:-//www.eventfinda.co.nz//NONSGML Eventfinder//EN
VERSION:2.0
BEGIN:VEVENT
DESCRIPTION:Night Owl Cinema proudly presents Happy Feet \n\nHappy Feet is 
 a 2006 computer-animated musical comedy film directed\, produced\, and co-
 written by George Miller. It stars the voices of Elijah Wood\, Robin Willi
 ams\, ...\n\nMore: https://nightowlcinema-premier.eventfinda.co.nz/2021/ni
 ght-owl-cinema-happy-feet/tauranga
DTEND:20210220T223000
DTSTAMP:20210121T061144Z
DTSTART:20210220T190000
GEO:-37.751400;176.104500
LOCATION:Koikoi Reserve: 12 Double Bay Road\, The Lakes\, Tauranga
SUMMARY:Night Owl Cinema - Happy Feet
TRANSP:TRANSPARENT
UID:20210121T191144NZDT-289bh0eRdC@www.eventfinda.co.nz
URL:https://nightowlcinema-premier.eventfinda.co.nz/2021/night-owl-cinema-h
 appy-feet/tauranga
END:VEVENT
END:VCALENDAR
