BEGIN:VCALENDAR
PRODID:-//www.eventfinda.co.nz//NONSGML Eventfinder//EN
VERSION:2.0
BEGIN:VEVENT
DESCRIPTION:Night Owl Cinema proudly presents Aquaman \n\nAquaman is a 2018
  American superhero film based on the superhero of the same name.   It sta
 rs Jason Momoa as Aquaman\, who sets out to lead the underwater kingdom of
  Atlantis ...\n\nMore: https://nightowlcinema-premier.eventfinda.co.nz/202
 1/night-owl-cinema-aquaman/tauranga
DTEND:20210320T223000
DTSTAMP:20210121T061147Z
DTSTART:20210320T190000
GEO:-37.695100;176.165200
LOCATION:Memorial Park: Devonport Road\, Tauranga
SUMMARY:Night Owl Cinema - Aquaman
TRANSP:TRANSPARENT
UID:20210121T191147NZDT-upOoVUvl2h@www.eventfinda.co.nz
URL:https://nightowlcinema-premier.eventfinda.co.nz/2021/night-owl-cinema-a
 quaman/tauranga
END:VEVENT
END:VCALENDAR
